DSET ^wstress_project.gad
*OPTIONS big_endian
TITLE Climatology of forcing data Japan area
UNDEF -9999.
*PDEF 1758 2909 lccr 122.8971 24.26851 1 1 45 1000 1000
PDEF 1758 2909 lccr 24.26851 122.8971 1 1 45 35 100 1000 1000
XDEF 2800 LINEAR 122.0 0.01
YDEF 2400 LINEAR 24.0 0.01
ZDEF 1 LEVELS 1000.000
TDEF 7 LINEAR 00Z01JAN1979 1MO
VARS 3
disc 1 0
demand 1 0
stress 1 0
ENDVARS
